BEGIN:VCALENDAR
VERSION:2.0
PRODID:-//ChamberMaster//Event Calendar 2.0//EN
METHOD:PUBLISH
X-PUBLISHED-TTL:P3D
REFRESH-INTERVAL:P3D
CALSCALE:GREGORIAN
BEGIN:VEVENT
DTSTART:20170608T124500Z
DTEND:20170608T140000Z
X-MICROSOFT-CDO-ALLDAYEVENT:FALSE
SUMMARY:Business @212
DESCRIPTION:Cyber Security: Everyone's Concern\n\nJeff Jaggers\n\nSenior Executive Vice President & Chief Information Officer\n\nBancorpSouth/Tupelo\, MS
X-ALT-DESC;FMTTYPE=text/html:Cyber Security: Everyone&#39\;s Concern<br />\nJeff Jaggers<br />\nSenior Executive Vice President &amp\; Chief Information Officer<br />\nBancorpSouth/Tupelo\, MS
LOCATION:Jackson Chamber 197 Auditorium St. Jackson\, TN 38301
UID:e.2827.3398
SEQUENCE:3
DTSTAMP:20260424T044643Z
URL:https://member.jacksontn.com/events/details/business-212-3398
END:VEVENT

END:VCALENDAR
