BEGIN:VCALENDAR
VERSION:2.0
PRODID:-//ChamberMaster//Event Calendar 2.0//EN
METHOD:PUBLISH
X-PUBLISHED-TTL:P3D
REFRESH-INTERVAL:P3D
CALSCALE:GREGORIAN
BEGIN:VEVENT
DTSTART:20170511T124500Z
DTEND:20170511T140000Z
X-MICROSOFT-CDO-ALLDAYEVENT:FALSE
SUMMARY:Business @212
DESCRIPTION:So you think you can..?\n\nEdmond Sims\, Deputy Regional Director\n\nEqual Employment\n\nOpportunity Commission
X-ALT-DESC;FMTTYPE=text/html:So you think you can..?<br />\nEdmond Sims\, Deputy Regional Director<br />\nEqual Employment<br />\nOpportunity Commission
LOCATION:Jackson Chamber 197 Auditorium St. Jackson\, TN 38301
UID:e.2827.3386
SEQUENCE:3
DTSTAMP:20260424T055755Z
URL:https://member.jacksontn.com/events/details/business-212-3386
END:VEVENT

END:VCALENDAR
