BEGIN:VCALENDAR
VERSION:2.0
PRODID:-//ChamberMaster//Event Calendar 2.0//EN
METHOD:PUBLISH
X-PUBLISHED-TTL:P3D
REFRESH-INTERVAL:P3D
CALSCALE:GREGORIAN
BEGIN:VEVENT
DTSTART:20051017T170000Z
DTEND:20051021T180000Z
X-MICROSOFT-CDO-ALLDAYEVENT:FALSE
SUMMARY:Brown Bag Lunch Series
DESCRIPTION:The Jackson Business & Professional Women will present its "Brown Bag Lunch Series" in celebration of National Business Women's Week.  Different speaker featured each day. Everyone is invited and there is no fee. Bring your own lunch. Beverages provided by Middlebrooks & Gray\, P.A.
X-ALT-DESC;FMTTYPE=text/html:The Jackson Business & Professional Women will present its "Brown Bag Lunch Series" in celebration of National Business Women's Week.  Different speaker featured each day. Everyone is invited and there is no fee. Bring your own lunch. Beverages provided by Middlebrooks & Gray\, P.A.
LOCATION:Jackson Madison County Library 433 E. Lafayette Jackson\, TN 38301
UID:e.2827.1297
SEQUENCE:3
DTSTAMP:20260421T130211Z
URL:https://member.jacksontn.com/events/details/brown-bag-lunch-series-10-17-2005-1297
END:VEVENT

END:VCALENDAR
