BEGIN:VCALENDAR
VERSION:2.0
PRODID:-//ChamberMaster//Event Calendar 2.0//EN
METHOD:PUBLISH
X-PUBLISHED-TTL:P3D
REFRESH-INTERVAL:P3D
CALSCALE:GREGORIAN
BEGIN:VEVENT
DTSTART:20051014T140000Z
DTEND:20051014T050000Z
X-MICROSOFT-CDO-ALLDAYEVENT:FALSE
SUMMARY:Boss' Day Out Golf Classic
DESCRIPTION:Four person scramble\, $75 per player\, $300 per team. Registration deadline October 7. Refreshments\, door prizes.
X-ALT-DESC;FMTTYPE=text/html:Four person scramble\, $75 per player\, $300 per team. Registration deadline October 7. Refreshments\, door prizes.
LOCATION:Falcon Ridge
UID:e.2827.1272
SEQUENCE:3
DTSTAMP:20260421T113629Z
URL:https://member.jacksontn.com/events/details/boss-day-out-golf-classic-10-14-2005-1272
END:VEVENT

END:VCALENDAR
