BEGIN:VCALENDAR
VERSION:2.0
PRODID:-//ChamberMaster//Event Calendar 2.0//EN
METHOD:PUBLISH
X-PUBLISHED-TTL:P3D
REFRESH-INTERVAL:P3D
CALSCALE:GREGORIAN
BEGIN:VEVENT
DTSTART:20050514T153000Z
DTEND:20050514T050000Z
X-MICROSOFT-CDO-ALLDAYEVENT:FALSE
SUMMARY:Book Signing
DESCRIPTION:Book signing will include the following authors: dn english\, Oneal Henley\, Lurenzia Triggs and Devon Duncan.
X-ALT-DESC;FMTTYPE=text/html:Book signing will include the following authors: dn english\, Oneal Henley\, Lurenzia Triggs and Devon Duncan.
LOCATION:David Kidd Booksellers
UID:e.2827.1027
SEQUENCE:3
DTSTAMP:20260422T050929Z
URL:https://member.jacksontn.com/events/details/book-signing-05-14-2005-1027
END:VEVENT

END:VCALENDAR
