BEGIN:VCALENDAR
VERSION:2.0
PRODID:-//ChamberMaster//Event Calendar 2.0//EN
METHOD:PUBLISH
X-PUBLISHED-TTL:P3D
REFRESH-INTERVAL:P3D
CALSCALE:GREGORIAN
BEGIN:VEVENT
DTSTART:20050319T140000Z
DTEND:20050319T060000Z
X-MICROSOFT-CDO-ALLDAYEVENT:FALSE
SUMMARY:''Blaze-A-Trail'' 3-Mile Run
DESCRIPTION:Registration begins at 8\, race at 9. While there is no entry fee\, donations will be accepted to support the Jackson Area Red Chapter's Single Family Fire Relief Program.
X-ALT-DESC;FMTTYPE=text/html:Registration begins at 8\, race at 9. While there is no entry fee\, donations will be accepted to support the Jackson Area Red Chapter's Single Family Fire Relief Program.
LOCATION:Pinson Mounds State Park
UID:e.2827.899
SEQUENCE:3
DTSTAMP:20260421T213821Z
URL:https://member.jacksontn.com/events/details/blaze-a-trail-3-mile-run-03-19-2005-899
END:VEVENT

END:VCALENDAR
