BEGIN:VCALENDAR
VERSION:2.0
PRODID:-//ChamberMaster//Event Calendar 2.0//EN
METHOD:PUBLISH
X-PUBLISHED-TTL:P3D
REFRESH-INTERVAL:P3D
CALSCALE:GREGORIAN
BEGIN:VEVENT
DTSTART:20050827T140000Z
DTEND:20050827T050000Z
X-MICROSOFT-CDO-ALLDAYEVENT:FALSE
SUMMARY:Ballet Arts auditions for new season
DESCRIPTION:$20 audition fee. Audition for membership and placement into the Ballet Arts Company are required.
X-ALT-DESC;FMTTYPE=text/html:$20 audition fee. Audition for membership and placement into the Ballet Arts Company are required.
LOCATION:Ballet Arts Studio
UID:e.2827.1186
SEQUENCE:3
DTSTAMP:20260421T202226Z
URL:https://member.jacksontn.com/events/details/ballet-arts-auditions-for-new-season-08-27-2005-1186
END:VEVENT

END:VCALENDAR
