BEGIN:VCALENDAR
VERSION:2.0
PRODID:-//ChamberMaster//Event Calendar 2.0//EN
METHOD:PUBLISH
X-PUBLISHED-TTL:P3D
REFRESH-INTERVAL:P3D
CALSCALE:GREGORIAN
BEGIN:VEVENT
DTSTART:20050331T133000Z
DTEND:20050331T150000Z
X-MICROSOFT-CDO-ALLDAYEVENT:FALSE
SUMMARY:B for Business 2005
DESCRIPTION:
X-ALT-DESC;FMTTYPE=text/html:
LOCATION:The Chamber 197 Auditorium Street Jackson\, TN 38301
UID:e.2827.1689
SEQUENCE:3
DTSTAMP:20260422T051106Z
URL:https://member.jacksontn.com/events/details/b-for-business-2005-03-31-2005-1689
END:VEVENT

END:VCALENDAR
