BEGIN:VCALENDAR
VERSION:2.0
PRODID:-//ChamberMaster//Event Calendar 2.0//EN
METHOD:PUBLISH
X-PUBLISHED-TTL:P3D
REFRESH-INTERVAL:P3D
CALSCALE:GREGORIAN
BEGIN:VEVENT
DTSTART:20050728T124500Z
DTEND:20050728T140000Z
X-MICROSOFT-CDO-ALLDAYEVENT:FALSE
SUMMARY:B for Business
DESCRIPTION:Monthly sessions geared toward small business  (1-50 employees) must be owner or managing decision maker.
X-ALT-DESC;FMTTYPE=text/html:Monthly sessions geared toward small business  (1-50 employees) must be owner or managing decision maker.
LOCATION:The Chamber 197 Auditorium Street Jackson\, TN 38301
UID:e.2827.1110
SEQUENCE:3
DTSTAMP:20260421T154502Z
URL:https://member.jacksontn.com/events/details/b-for-business-07-28-2005-1110
END:VEVENT

END:VCALENDAR
