BEGIN:VCALENDAR
VERSION:2.0
PRODID:-//ChamberMaster//Event Calendar 2.0//EN
METHOD:PUBLISH
X-PUBLISHED-TTL:P3D
REFRESH-INTERVAL:P3D
CALSCALE:GREGORIAN
BEGIN:VEVENT
DTSTART:20051022T220000Z
DTEND:20051022T050000Z
X-MICROSOFT-CDO-ALLDAYEVENT:FALSE
SUMMARY:AuthorHouse Fresh Voices in Print
DESCRIPTION:Davis-Kidd Booksellers and AuthorHouse are pleased to announce the Fresh Voices in Print publishingprogram\, designed to assist aspiring writers become successful published authors. This partnership is the first of its kind in the United States offering authors guaranteed book store placement and anin store book signing. A representative from AuthorHouse will appear at Davis-Kidd on October 22 tomake a presentation about the Fresh Voices in Print program\, so aspiring authors simply will not want to miss this event!
X-ALT-DESC;FMTTYPE=text/html:Davis-Kidd Booksellers and AuthorHouse are pleased to announce the Fresh Voices in Print publishingprogram\, designed to assist aspiring writers become successful published authors. This partnership is the first of its kind in the United States offering authors guaranteed book store placement and anin store book signing. A representative from AuthorHouse will appear at Davis-Kidd on October 22 tomake a presentation about the Fresh Voices in Print program\, so aspiring authors simply will not want to miss this event!
LOCATION:
UID:e.2827.1288
SEQUENCE:3
DTSTAMP:20260421T171346Z
URL:https://member.jacksontn.com/events/details/authorhouse-fresh-voices-in-print-10-22-2005-1288
END:VEVENT

END:VCALENDAR
