BEGIN:VCALENDAR
VERSION:2.0
PRODID:-//ChamberMaster//Event Calendar 2.0//EN
METHOD:PUBLISH
X-PUBLISHED-TTL:P3D
REFRESH-INTERVAL:P3D
CALSCALE:GREGORIAN
BEGIN:VEVENT
DTSTART:20170831T220000Z
DTEND:20170901T000000Z
X-MICROSOFT-CDO-ALLDAYEVENT:FALSE
SUMMARY:August Business After Hours
DESCRIPTION:This is one of the chamber's largest networking events!  Sponsored by WNBJ Jackson TV.\n  Make contacts\n\n  Network\n\n  Enjoy hors d'oeuvres \n\n  Free to attend \n\n  No advance registration
X-ALT-DESC;FMTTYPE=text/html:This is one of the chamber&#39\;s largest networking events! &nbsp\;Sponsored by WNBJ&nbsp\;Jackson TV.\n<p style="margin: 0px\; font-size: 18px\; line-height: normal\; font-family: &quot\;ITC Avant Garde Gothic&quot\;\; color: rgb(0\, 63\, 105)\;"><span style="color: rgb(0\, 0\, 0)\;"><span style="font-size: 12px\;"><span style="font-family: arial\;">&bull\; Make contacts</span></span></span></p>\n\n<p style="margin: 0px\; font-size: 18px\; line-height: normal\; font-family: &quot\;ITC Avant Garde Gothic&quot\;\; color: rgb(0\, 63\, 105)\;"><span style="color: rgb(0\, 0\, 0)\;"><span style="font-size: 12px\;"><span style="font-family: arial\;">&bull\; Network</span></span></span></p>\n\n<p style="margin: 0px\; font-size: 18px\; line-height: normal\; font-family: &quot\;ITC Avant Garde Gothic&quot\;\; color: rgb(0\, 63\, 105)\;"><span style="color: rgb(0\, 0\, 0)\;"><span style="font-size: 12px\;"><span style="font-family: arial\;">&bull\; Enjoy hors d&rsquo\;oeuvres&nbsp\;</span></span></span></p>\n\n<p style="margin: 0px\; font-size: 18px\; line-height: normal\; font-family: &quot\;ITC Avant Garde Gothic&quot\;\; color: rgb(0\, 63\, 105)\;"><span style="color: rgb(0\, 0\, 0)\;"><span style="font-size: 12px\;"><span style="font-family: arial\;">&bull\; Free to attend&nbsp\;</span></span></span></p>\n\n<p style="margin: 0px\; font-size: 18px\; line-height: normal\; font-family: &quot\;ITC Avant Garde Gothic&quot\;\; color: rgb(0\, 63\, 105)\;"><span style="color: rgb(0\, 0\, 0)\;"><span style="font-size: 12px\;"><span style="font-family: arial\;">&bull\; No advance registration</span></span></span></p>\n
LOCATION:Buffalo Wild Wings 1242 Vann Dr. Jackson\, TN 38305
UID:e.2827.3407
SEQUENCE:3
DTSTAMP:20260424T155350Z
URL:https://member.jacksontn.com/events/details/august-business-after-hours-3407
END:VEVENT

END:VCALENDAR
