BEGIN:VCALENDAR
VERSION:2.0
PRODID:-//ChamberMaster//Event Calendar 2.0//EN
METHOD:PUBLISH
X-PUBLISHED-TTL:P3D
REFRESH-INTERVAL:P3D
CALSCALE:GREGORIAN
BEGIN:VEVENT
DTSTART:20051022T170000Z
DTEND:20051022T210000Z
X-MICROSOFT-CDO-ALLDAYEVENT:FALSE
SUMMARY:Artist Demonstration & Holiday Sale
DESCRIPTION:Free admission. Woodworking\, jewelry\, stained glass\, quilts\, weaving\, hats and metal work.
X-ALT-DESC;FMTTYPE=text/html:Free admission. Woodworking\, jewelry\, stained glass\, quilts\, weaving\, hats and metal work.
LOCATION:GlassSmith's Studio 1407 A North Highland Ave. Jackson\, TN 38305
UID:e.2827.1270
SEQUENCE:3
DTSTAMP:20260421T155921Z
URL:https://member.jacksontn.com/events/details/artist-demonstration-holiday-sale-10-22-2005-1270
END:VEVENT

END:VCALENDAR
