BEGIN:VCALENDAR
VERSION:2.0
PRODID:-//ChamberMaster//Event Calendar 2.0//EN
METHOD:PUBLISH
X-PUBLISHED-TTL:P3D
REFRESH-INTERVAL:P3D
CALSCALE:GREGORIAN
BEGIN:VEVENT
DTSTART:20050820T130000Z
DTEND:20050820T173000Z
X-MICROSOFT-CDO-ALLDAYEVENT:FALSE
SUMMARY:Arthritis Clinic Dice Run
DESCRIPTION:50/50 drawing\, vendors\, silent auction and concessions.
X-ALT-DESC;FMTTYPE=text/html:50/50 drawing\, vendors\, silent auction and concessions.
LOCATION:Arthritis Clinic 371 N. Parkway Jackson\, TN
UID:e.2827.1173
SEQUENCE:3
DTSTAMP:20260421T154508Z
URL:https://member.jacksontn.com/events/details/arthritis-clinic-dice-run-08-20-2005-1173
END:VEVENT

END:VCALENDAR
