BEGIN:VCALENDAR
VERSION:2.0
PRODID:-//ChamberMaster//Event Calendar 2.0//EN
METHOD:PUBLISH
X-PUBLISHED-TTL:P3D
REFRESH-INTERVAL:P3D
CALSCALE:GREGORIAN
BEGIN:VEVENT
DTSTART:20170529T140000Z
DTEND:20170529T213000Z
X-MICROSOFT-CDO-ALLDAYEVENT:FALSE
SUMMARY:Art Exhibits at The Ned
DESCRIPTION:The Ned will host Jackson Visual Art Association and the works of Jeffrey Sloan & Virginia Merry through June 30. These exhibits are open to the public weekdays from 9:00 am - 4:30 pm. Contact: 731-425-8397.
X-ALT-DESC;FMTTYPE=text/html:The Ned will host Jackson Visual Art Association and the works of Jeffrey Sloan &amp\; Virginia Merry through June 30. These exhibits are open to the public weekdays from 9:00 am - 4:30 pm. Contact: 731-425-8397.
LOCATION:Ned R. McWherter Cultural Arts Center\, 314 E. Main St.\, Jackson\, TN 38301
UID:e.2827.3396
SEQUENCE:3
DTSTAMP:20260424T060047Z
URL:https://member.jacksontn.com/events/details/art-exhibits-at-the-ned-05-29-2017-3396
END:VEVENT

END:VCALENDAR
