BEGIN:VCALENDAR
VERSION:2.0
PRODID:-//ChamberMaster//Event Calendar 2.0//EN
METHOD:PUBLISH
X-PUBLISHED-TTL:P3D
REFRESH-INTERVAL:P3D
CALSCALE:GREGORIAN
BEGIN:VEVENT
DTSTART:20050614T180000Z
DTEND:20050614T190000Z
X-MICROSOFT-CDO-ALLDAYEVENT:FALSE
SUMMARY:Army Recruiting 230th Anniversary Celebration
DESCRIPTION:U.S. Army Recruting Command celebrates 230 years of service to the nation. Area citizens are encouraged to join in the celebration and cake-cutting ceremony beginning at 1.p.m. on Flag Day.
X-ALT-DESC;FMTTYPE=text/html:U.S. Army Recruting Command celebrates 230 years of service to the nation. Area citizens are encouraged to join in the celebration and cake-cutting ceremony beginning at 1.p.m. on Flag Day.
LOCATION:Army Recruiting Station 319 Vann Drive\, Suite K-1 Jackson\, TN
UID:e.2827.1104
SEQUENCE:3
DTSTAMP:20260421T182251Z
URL:https://member.jacksontn.com/events/details/army-recruiting-230th-anniversary-celebration-06-14-2005-1104
END:VEVENT

END:VCALENDAR
