BEGIN:VCALENDAR
VERSION:2.0
PRODID:-//ChamberMaster//Event Calendar 2.0//EN
METHOD:PUBLISH
X-PUBLISHED-TTL:P3D
REFRESH-INTERVAL:P3D
CALSCALE:GREGORIAN
BEGIN:VEVENT
DTSTART:20050625T150000Z
DTEND:20050625T210000Z
X-MICROSOFT-CDO-ALLDAYEVENT:FALSE
SUMMARY:Antique Appraisal Event
DESCRIPTION:Join the hosts of the PBS series "Treasures in Your Attic"\, along with over a dozen appraisers and specialists\, as they search for treasures in the Mid-South and tape segments for the next season of their popular PBS series. Admission is free\; appraisals are $5 per item.
X-ALT-DESC;FMTTYPE=text/html:Join the hosts of the PBS series "Treasures in Your Attic"\, along with over a dozen appraisers and specialists\, as they search for treasures in the Mid-South and tape segments for the next season of their popular PBS series. Admission is free\; appraisals are $5 per item.
LOCATION:Desoto Civic Center
UID:e.2827.1080
SEQUENCE:3
DTSTAMP:20260421T182308Z
URL:https://member.jacksontn.com/events/details/antique-appraisal-event-06-25-2005-1080
END:VEVENT

END:VCALENDAR
