BEGIN:VCALENDAR
VERSION:2.0
PRODID:-//ChamberMaster//Event Calendar 2.0//EN
METHOD:PUBLISH
X-PUBLISHED-TTL:P3D
REFRESH-INTERVAL:P3D
CALSCALE:GREGORIAN
BEGIN:VEVENT
DTSTART;VALUE=DATE:20060120
DTEND;VALUE=DATE:20060121
TRANSP:TRANSPARENT
X-MICROSOFT-CDO-ALLDAYEVENT:TRUE
SUMMARY:Anniversary Spectacular
DESCRIPTION:Soprano Arianna Zukerman joins the Jackson Symphony in celebrating the anniversaries of two great composers- Mozart's 250th and Shostakovich's 100th.\nTickets: $10 for students and $18 for adults
X-ALT-DESC;FMTTYPE=text/html:Soprano Arianna Zukerman joins the Jackson Symphony in celebrating the anniversaries of two great composers- Mozart's 250th and Shostakovich's 100th.\nTickets: $10 for students and $18 for adults
LOCATION:
UID:e.2827.1491
SEQUENCE:3
DTSTAMP:20260422T032504Z
URL:https://member.jacksontn.com/events/details/anniversary-spectacular-01-20-2006-1491
END:VEVENT

END:VCALENDAR
