BEGIN:VCALENDAR
VERSION:2.0
PRODID:-//ChamberMaster//Event Calendar 2.0//EN
METHOD:PUBLISH
X-PUBLISHED-TTL:P3D
REFRESH-INTERVAL:P3D
CALSCALE:GREGORIAN
BEGIN:VEVENT
DTSTART;VALUE=DATE:20050311
DTEND;VALUE=DATE:20050312
TRANSP:TRANSPARENT
X-MICROSOFT-CDO-ALLDAYEVENT:TRUE
SUMMARY:''An Evening with Groucho''
DESCRIPTION:The Recreation of Groucho Marx. Dinner\, 5:45 p.m.\, reservations required. Show time - 7:00 p.m. $19 show\, $44 with dinner.
X-ALT-DESC;FMTTYPE=text/html:The Recreation of Groucho Marx. Dinner\, 5:45 p.m.\, reservations required. Show time - 7:00 p.m. $19 show\, $44 with dinner.
LOCATION:The Ned R. McWherter West TN Cultural Arts Center 314 E. Main Jackson\, TN 38301
UID:e.2827.886
SEQUENCE:3
DTSTAMP:20260421T213820Z
URL:https://member.jacksontn.com/events/details/an-evening-with-groucho-03-11-2005-886
END:VEVENT

END:VCALENDAR
