BEGIN:VCALENDAR
VERSION:2.0
PRODID:-//ChamberMaster//Event Calendar 2.0//EN
METHOD:PUBLISH
X-PUBLISHED-TTL:P3D
REFRESH-INTERVAL:P3D
CALSCALE:GREGORIAN
BEGIN:VEVENT
DTSTART:20050414T000000Z
DTEND:20050414T030000Z
X-MICROSOFT-CDO-ALLDAYEVENT:FALSE
SUMMARY:An Evening with Bruce Lockerbie
DESCRIPTION:Bruce Lockerbie is the author of some 30 books and is a leader in the world of Christian education. He will deliver a lecture\, "The Christian Scholar\," which will be followed by a question and answer session. Refreshments will be served.  RSVP.
X-ALT-DESC;FMTTYPE=text/html:Bruce Lockerbie is the author of some 30 books and is a leader in the world of Christian education. He will deliver a lecture\, "The Christian Scholar\," which will be followed by a question and answer session. Refreshments will be served.  RSVP.
LOCATION:Augustine School
UID:e.2827.993
SEQUENCE:3
DTSTAMP:20260421T213806Z
URL:https://member.jacksontn.com/events/details/an-evening-with-bruce-lockerbie-04-13-2005-993
END:VEVENT

END:VCALENDAR
