BEGIN:VCALENDAR
VERSION:2.0
PRODID:-//ChamberMaster//Event Calendar 2.0//EN
METHOD:PUBLISH
X-PUBLISHED-TTL:P3D
REFRESH-INTERVAL:P3D
CALSCALE:GREGORIAN
BEGIN:VEVENT
DTSTART:20050614T123000Z
DTEND:20050614T140000Z
X-MICROSOFT-CDO-ALLDAYEVENT:FALSE
SUMMARY:Ambassador Breakfast
DESCRIPTION:
X-ALT-DESC;FMTTYPE=text/html:
LOCATION:Country Inn & Suites 1935 Emporium Dr. Jackson\, TN 38305
UID:e.2827.1078
SEQUENCE:3
DTSTAMP:20260421T201531Z
URL:https://member.jacksontn.com/events/details/ambassador-breakfast-06-14-2005-1078
END:VEVENT

END:VCALENDAR
