BEGIN:VCALENDAR
VERSION:2.0
PRODID:-//ChamberMaster//Event Calendar 2.0//EN
METHOD:PUBLISH
X-PUBLISHED-TTL:P3D
REFRESH-INTERVAL:P3D
CALSCALE:GREGORIAN
BEGIN:VEVENT
DTSTART:20050412T123000Z
DTEND:20050412T133000Z
X-MICROSOFT-CDO-ALLDAYEVENT:FALSE
SUMMARY:Ambassador Breakfast
DESCRIPTION:
X-ALT-DESC;FMTTYPE=text/html:
LOCATION:DoubleTree Hotel 1770 Highway 45 Bypass Jackson\, TN 38305
UID:e.2827.965
SEQUENCE:3
DTSTAMP:20260421T213211Z
URL:https://member.jacksontn.com/events/details/ambassador-breakfast-04-12-2005-965
END:VEVENT

END:VCALENDAR
