BEGIN:VCALENDAR
VERSION:2.0
PRODID:-//ChamberMaster//Event Calendar 2.0//EN
METHOD:PUBLISH
X-PUBLISHED-TTL:P3D
REFRESH-INTERVAL:P3D
CALSCALE:GREGORIAN
BEGIN:VEVENT
DTSTART:20050614T000000Z
DTEND:20050613T050000Z
X-MICROSOFT-CDO-ALLDAYEVENT:FALSE
SUMMARY:Alpha-Stim Seminar
DESCRIPTION:If you suffer from pain\, anxiety\, depression\, stress or insomnia\, Alpha-Stim may be what you need. Safe\, effective\, non-drug\, non-addictive approach. RSVP to 731.668.4449.
X-ALT-DESC;FMTTYPE=text/html:If you suffer from pain\, anxiety\, depression\, stress or insomnia\, Alpha-Stim may be what you need. Safe\, effective\, non-drug\, non-addictive approach. RSVP to 731.668.4449.
LOCATION:AquaTherapies 614 F Carriage House Drive Jackson\, TN
UID:e.2827.1099
SEQUENCE:3
DTSTAMP:20260422T010349Z
URL:https://member.jacksontn.com/events/details/alpha-stim-seminar-06-13-2005-1099
END:VEVENT

END:VCALENDAR
