BEGIN:VCALENDAR
VERSION:2.0
PRODID:-//ChamberMaster//Event Calendar 2.0//EN
METHOD:PUBLISH
X-PUBLISHED-TTL:P3D
REFRESH-INTERVAL:P3D
CALSCALE:GREGORIAN
BEGIN:VEVENT
DTSTART:20051022T233000Z
DTEND:20051022T050000Z
X-MICROSOFT-CDO-ALLDAYEVENT:FALSE
SUMMARY:African American Literature Book Club
DESCRIPTION:Free admission. Monthly book reviews/discussion
X-ALT-DESC;FMTTYPE=text/html:Free admission. Monthly book reviews/discussion
LOCATION:Jackson Madison County Library 433 E. Lafayette Jackson\, TN 38301
UID:e.2827.1271
SEQUENCE:3
DTSTAMP:20260421T131434Z
URL:https://member.jacksontn.com/events/details/african-american-literature-book-club-10-22-2005-1271
END:VEVENT

END:VCALENDAR
