BEGIN:VCALENDAR
VERSION:2.0
PRODID:-//ChamberMaster//Event Calendar 2.0//EN
METHOD:PUBLISH
X-PUBLISHED-TTL:P3D
REFRESH-INTERVAL:P3D
CALSCALE:GREGORIAN
BEGIN:VEVENT
DTSTART:20050419T233000Z
DTEND:20050419T050000Z
X-MICROSOFT-CDO-ALLDAYEVENT:FALSE
SUMMARY:African American Literature Book Club
DESCRIPTION:Herb Slack will review National Book Critics Circle Award winner\, "We wish to inform you that tomorrow we will be killed with our families: Stories from Rwanda" by Philip Gourevitch.
X-ALT-DESC;FMTTYPE=text/html:Herb Slack will review National Book Critics Circle Award winner\, "We wish to inform you that tomorrow we will be killed with our families: Stories from Rwanda" by Philip Gourevitch.
LOCATION:Jackson Madison County Library 433 E. Lafayette Jackson\, TN 38301
UID:e.2827.935
SEQUENCE:3
DTSTAMP:20260421T200407Z
URL:https://member.jacksontn.com/events/details/african-american-literature-book-club-04-19-2005-935
END:VEVENT

END:VCALENDAR
