BEGIN:VCALENDAR
VERSION:2.0
PRODID:-//ChamberMaster//Event Calendar 2.0//EN
METHOD:PUBLISH
X-PUBLISHED-TTL:P3D
REFRESH-INTERVAL:P3D
CALSCALE:GREGORIAN
BEGIN:VEVENT
DTSTART:20050421T230000Z
DTEND:20050421T050000Z
X-MICROSOFT-CDO-ALLDAYEVENT:FALSE
SUMMARY:''A Gathering of Poets-Bill Brown Jeff Hardin\, James Scruton''
DESCRIPTION:Celebrate National Poetry Month at the library. Readings by three award-winning poets\, followed by an opportunity for local poets to share.  Sponsored by the TN Arts Commission.
X-ALT-DESC;FMTTYPE=text/html:Celebrate National Poetry Month at the library. Readings by three award-winning poets\, followed by an opportunity for local poets to share.  Sponsored by the TN Arts Commission.
LOCATION:Jackson Madison County Library 433 E. Lafayette Jackson\, TN 38301
UID:e.2827.934
SEQUENCE:3
DTSTAMP:20260421T214034Z
URL:https://member.jacksontn.com/events/details/a-gathering-of-poets-bill-brown-jeff-hardin-james-scruton-04-21-2005-934
END:VEVENT

END:VCALENDAR
