BEGIN:VCALENDAR
VERSION:2.0
PRODID:-//ChamberMaster//Event Calendar 2.0//EN
METHOD:PUBLISH
X-PUBLISHED-TTL:P3D
REFRESH-INTERVAL:P3D
CALSCALE:GREGORIAN
BEGIN:VEVENT
DTSTART;VALUE=DATE:20050409
DTEND;VALUE=DATE:20050411
TRANSP:TRANSPARENT
X-MICROSOFT-CDO-ALLDAYEVENT:TRUE
SUMMARY:'A Family Affair' - JCS Consignment Sale
DESCRIPTION:
X-ALT-DESC;FMTTYPE=text/html:
LOCATION:Jackson Christian School 832 Country Club Lane Jackson\, TN
UID:e.2827.871
SEQUENCE:3
DTSTAMP:20260421T200354Z
URL:https://member.jacksontn.com/events/details/a-family-affair-jcs-consignment-sale-04-09-2005-871
END:VEVENT

END:VCALENDAR
