BEGIN:VCALENDAR
VERSION:2.0
PRODID:-//ChamberMaster//Event Calendar 2.0//EN
METHOD:PUBLISH
X-PUBLISHED-TTL:P3D
REFRESH-INTERVAL:P3D
CALSCALE:GREGORIAN
BEGIN:VEVENT
DTSTART:20050625T140000Z
DTEND:20050625T210000Z
X-MICROSOFT-CDO-ALLDAYEVENT:FALSE
SUMMARY:7th Annual Parade of Ponds
DESCRIPTION:The largest water garden tour in Tennessee will again benefit the Jackson-Madison County Humane Society. Over 30 properties in the Jackson/Madison County area will be included in this two-day self-guided tour. All money from ticket sales is donated to the Humane Society. Event is rain or shine. Tickets are $10 (12 and under free)
X-ALT-DESC;FMTTYPE=text/html:The largest water garden tour in Tennessee will again benefit the Jackson-Madison County Humane Society. Over 30 properties in the Jackson/Madison County area will be included in this two-day self-guided tour. All money from ticket sales is donated to the Humane Society. Event is rain or shine. Tickets are $10 (12 and under free)
LOCATION:Carter's Nursery\, Pond & Patio 2846 Old Medina Road Jackson\, TN 38305
UID:e.2827.1024
SEQUENCE:3
DTSTAMP:20260421T182404Z
URL:https://member.jacksontn.com/events/details/7th-annual-parade-of-ponds-06-25-2005-1024
END:VEVENT

END:VCALENDAR
