BEGIN:VCALENDAR
VERSION:2.0
PRODID:-//ChamberMaster//Event Calendar 2.0//EN
METHOD:PUBLISH
X-PUBLISHED-TTL:P3D
REFRESH-INTERVAL:P3D
CALSCALE:GREGORIAN
BEGIN:VEVENT
DTSTART;VALUE=DATE:20050913
DTEND;VALUE=DATE:20050918
TRANSP:TRANSPARENT
X-MICROSOFT-CDO-ALLDAYEVENT:TRUE
SUMMARY:4-H Chicken Shack
DESCRIPTION:Deliveries available for orders of 20 or more.
X-ALT-DESC;FMTTYPE=text/html:Deliveries available for orders of 20 or more.
LOCATION:Jackson Fairgrounds - West TN State Fair
UID:e.2827.1238
SEQUENCE:3
DTSTAMP:20260421T184637Z
URL:https://member.jacksontn.com/events/details/4-h-chicken-shack-09-13-2005-1238
END:VEVENT

END:VCALENDAR
