BEGIN:VCALENDAR
VERSION:2.0
PRODID:-//ChamberMaster//Event Calendar 2.0//EN
METHOD:PUBLISH
X-PUBLISHED-TTL:P3D
REFRESH-INTERVAL:P3D
CALSCALE:GREGORIAN
BEGIN:VEVENT
DTSTART:20050424T190000Z
DTEND:20050424T210000Z
X-MICROSOFT-CDO-ALLDAYEVENT:FALSE
SUMMARY:36th Annual WalkAmerica
DESCRIPTION:The 36th Annual WalkAmerica is set to take place on Sun.\, Apr. 24 at 2 PM starting at the Jackson Fairgrounds. Companies can still get a team signed up or can become a route sponsor by contacting the March of Dimes office. The event will take place rain or shine and is fun for the entire family\, with many new activities along the route.
X-ALT-DESC;FMTTYPE=text/html:The 36th Annual WalkAmerica is set to take place on Sun.\, Apr. 24 at 2 PM starting at the Jackson Fairgrounds. Companies can still get a team signed up or can become a route sponsor by contacting the March of Dimes office. The event will take place rain or shine and is fun for the entire family\, with many new activities along the route.
LOCATION:Jackson Fairgrounds Park S. Highland Avenue Jackson\, TN
UID:e.2827.1014
SEQUENCE:3
DTSTAMP:20260421T200116Z
URL:https://member.jacksontn.com/events/details/36th-annual-walkamerica-04-24-2005-1014
END:VEVENT

END:VCALENDAR
