BEGIN:VCALENDAR
VERSION:2.0
PRODID:-//ChamberMaster//Event Calendar 2.0//EN
METHOD:PUBLISH
X-PUBLISHED-TTL:P3D
REFRESH-INTERVAL:P3D
CALSCALE:GREGORIAN
BEGIN:VEVENT
DTSTART:20050917T140000Z
DTEND:20050917T220000Z
X-MICROSOFT-CDO-ALLDAYEVENT:FALSE
SUMMARY:22nd Annual Archeofest
DESCRIPTION:Featuring Native American dancers\, hay wagon tours\, story telling\, Native American foods\, Native American crafts\, wildlife programs\, flint knapping\, artifact identification
X-ALT-DESC;FMTTYPE=text/html:Featuring Native American dancers\, hay wagon tours\, story telling\, Native American foods\, Native American crafts\, wildlife programs\, flint knapping\, artifact identification
LOCATION:Pinson Mounds State Archaeological Area 460 Ozier Road Pinson\, TN 38366
UID:e.2827.1206
SEQUENCE:3
DTSTAMP:20260422T010059Z
URL:https://member.jacksontn.com/events/details/22nd-annual-archeofest-09-17-2005-1206
END:VEVENT

END:VCALENDAR
