BEGIN:VCALENDAR
VERSION:2.0
PRODID:-//ChamberMaster//Event Calendar 2.0//EN
METHOD:PUBLISH
X-PUBLISHED-TTL:P3D
REFRESH-INTERVAL:P3D
CALSCALE:GREGORIAN
BEGIN:VEVENT
DTSTART:20161205T143000Z
DTEND:20161206T210000Z
X-MICROSOFT-CDO-ALLDAYEVENT:FALSE
SUMMARY:2016 OSHA Training
DESCRIPTION:
X-ALT-DESC;FMTTYPE=text/html:
LOCATION:Jackson Chamber 197 Auditorium St. Jackson\, TN 38301
UID:e.2827.1854
SEQUENCE:3
DTSTAMP:20260424T165707Z
URL:https://member.jacksontn.com/events/details/2016-osha-training-12-05-2016-1854
END:VEVENT

END:VCALENDAR
