BEGIN:VCALENDAR
VERSION:2.0
PRODID:-//ChamberMaster//Event Calendar 2.0//EN
METHOD:PUBLISH
X-PUBLISHED-TTL:P3D
REFRESH-INTERVAL:P3D
CALSCALE:GREGORIAN
BEGIN:VEVENT
DTSTART:20151016T133000Z
DTEND:20151016T150000Z
X-MICROSOFT-CDO-ALLDAYEVENT:FALSE
SUMMARY:2015 Return On Investment
DESCRIPTION:
X-ALT-DESC;FMTTYPE=text/html:
LOCATION:Jackson Chamber 197 Auditorium St. Jackson\, TN 38301
UID:e.2827.1735
SEQUENCE:3
DTSTAMP:20260425T112807Z
URL:https://member.jacksontn.com/events/details/2015-return-on-investment-10-16-2015-1735
END:VEVENT

END:VCALENDAR
