BEGIN:VCALENDAR
VERSION:2.0
PRODID:-//ChamberMaster//Event Calendar 2.0//EN
METHOD:PUBLISH
X-PUBLISHED-TTL:P3D
REFRESH-INTERVAL:P3D
CALSCALE:GREGORIAN
BEGIN:VEVENT
DTSTART:20150925T123000Z
DTEND:20150925T141500Z
X-MICROSOFT-CDO-ALLDAYEVENT:FALSE
SUMMARY:2015 3rd Quarterly Membership Meeting
DESCRIPTION:
X-ALT-DESC;FMTTYPE=text/html:
LOCATION:Union University 1050 Union University Dr. Jackson\, TN 38305
UID:e.2827.1660
SEQUENCE:3
DTSTAMP:20260425T153448Z
URL:https://member.jacksontn.com/events/details/2015-3rd-quarterly-membership-meeting-09-25-2015-1660
END:VEVENT

END:VCALENDAR
