BEGIN:VCALENDAR
VERSION:2.0
PRODID:-//ChamberMaster//Event Calendar 2.0//EN
METHOD:PUBLISH
X-PUBLISHED-TTL:P3D
REFRESH-INTERVAL:P3D
CALSCALE:GREGORIAN
BEGIN:VEVENT
DTSTART:20050101T060000Z
DTEND:20051231T060000Z
X-MICROSOFT-CDO-ALLDAYEVENT:FALSE
SUMMARY:2005 Website Advertising
DESCRIPTION:
X-ALT-DESC;FMTTYPE=text/html:
LOCATION:
UID:e.2827.1557
SEQUENCE:3
DTSTAMP:20260421T113606Z
URL:https://member.jacksontn.com/events/details/2005-website-advertising-01-01-2005-1557
END:VEVENT

END:VCALENDAR
