BEGIN:VCALENDAR
VERSION:2.0
PRODID:-//ChamberMaster//Event Calendar 2.0//EN
METHOD:PUBLISH
X-PUBLISHED-TTL:P3D
REFRESH-INTERVAL:P3D
CALSCALE:GREGORIAN
BEGIN:VEVENT
DTSTART:20050301T060000Z
DTEND:20060228T060000Z
X-MICROSOFT-CDO-ALLDAYEVENT:FALSE
SUMMARY:2005 Mayor's Leadership Group
DESCRIPTION:2005 Mayor's Leadership Group
X-ALT-DESC;FMTTYPE=text/html:2005 Mayor's Leadership Group
LOCATION:
UID:e.2827.2012
SEQUENCE:3
DTSTAMP:20260421T153813Z
URL:https://member.jacksontn.com/events/details/2005-mayor-s-leadership-group-03-01-2005-2012
END:VEVENT

END:VCALENDAR
