BEGIN:VCALENDAR
VERSION:2.0
PRODID:-//ChamberMaster//Event Calendar 2.0//EN
METHOD:PUBLISH
X-PUBLISHED-TTL:P3D
REFRESH-INTERVAL:P3D
CALSCALE:GREGORIAN
BEGIN:VEVENT
DTSTART:20050929T190000Z
DTEND:20050930T000000Z
X-MICROSOFT-CDO-ALLDAYEVENT:FALSE
SUMMARY:2005 Marketplace Expo
DESCRIPTION:
X-ALT-DESC;FMTTYPE=text/html:
LOCATION:Jackson Fairgrounds 800 South Highland Jackson\, TN 38301
UID:e.2827.1552
SEQUENCE:3
DTSTAMP:20260421T171324Z
URL:https://member.jacksontn.com/events/details/2005-marketplace-expo-09-29-2005-1552
END:VEVENT

END:VCALENDAR
