BEGIN:VCALENDAR
VERSION:2.0
PRODID:-//ChamberMaster//Event Calendar 2.0//EN
METHOD:PUBLISH
X-PUBLISHED-TTL:P3D
REFRESH-INTERVAL:P3D
CALSCALE:GREGORIAN
BEGIN:VEVENT
DTSTART:20050304T130000Z
DTEND:20050304T143000Z
X-MICROSOFT-CDO-ALLDAYEVENT:FALSE
SUMMARY:2005 1st Quarterly Chamber Membership Meeting
DESCRIPTION:
X-ALT-DESC;FMTTYPE=text/html:
LOCATION:The Double Tree Hotel 1170 Hwy 45 Bypass Jackson\, TN 38305
UID:e.2827.1546
SEQUENCE:3
DTSTAMP:20260421T213908Z
URL:https://member.jacksontn.com/events/details/2005-1st-quarterly-chamber-membership-meeting-03-04-2005-1546
END:VEVENT

END:VCALENDAR
