BEGIN:VCALENDAR
VERSION:2.0
PRODID:-//ChamberMaster//Event Calendar 2.0//EN
METHOD:PUBLISH
X-PUBLISHED-TTL:P3D
REFRESH-INTERVAL:P3D
CALSCALE:GREGORIAN
BEGIN:VEVENT
DTSTART:20050218T003000Z
DTEND:20050218T023000Z
X-MICROSOFT-CDO-ALLDAYEVENT:FALSE
SUMMARY:2004 Pinnacle Awards
DESCRIPTION:
X-ALT-DESC;FMTTYPE=text/html:
LOCATION:Lambuth University\, Jack Morris Ballroom
UID:e.2827.1856
SEQUENCE:3
DTSTAMP:20260422T051042Z
URL:https://member.jacksontn.com/events/details/2004-pinnacle-awards-02-17-2005-1856
END:VEVENT

END:VCALENDAR
