BEGIN:VCALENDAR
VERSION:2.0
PRODID:-//ChamberMaster//Event Calendar 2.0//EN
METHOD:PUBLISH
X-PUBLISHED-TTL:P3D
REFRESH-INTERVAL:P3D
CALSCALE:GREGORIAN
BEGIN:VEVENT
DTSTART:20050215T173000Z
DTEND:20050215T190000Z
X-MICROSOFT-CDO-ALLDAYEVENT:FALSE
SUMMARY:2004 Emerging Business Luncheon
DESCRIPTION:
X-ALT-DESC;FMTTYPE=text/html:
LOCATION:Union University
UID:e.2827.1711
SEQUENCE:3
DTSTAMP:20260421T231015Z
URL:https://member.jacksontn.com/events/details/2004-emerging-business-luncheon-02-15-2005-1711
END:VEVENT

END:VCALENDAR
