BEGIN:VCALENDAR
VERSION:2.0
PRODID:-//ChamberMaster//Event Calendar 2.0//EN
METHOD:PUBLISH
X-PUBLISHED-TTL:P3D
REFRESH-INTERVAL:P3D
CALSCALE:GREGORIAN
BEGIN:VEVENT
DTSTART:20040910T120000Z
DTEND:20040910T133000Z
X-MICROSOFT-CDO-ALLDAYEVENT:FALSE
SUMMARY:2004 3rd Quarterly Chamber Membership Meeting
DESCRIPTION:
X-ALT-DESC;FMTTYPE=text/html:
LOCATION:University School of Jackson 232 McClellan Rd. Jackson\, TN 38305
UID:e.2827.1671
SEQUENCE:3
DTSTAMP:20260422T125226Z
URL:https://member.jacksontn.com/events/details/2004-3rd-quarterly-chamber-membership-meeting-09-10-2004-1671
END:VEVENT

END:VCALENDAR
