BEGIN:VCALENDAR
VERSION:2.0
PRODID:-//ChamberMaster//Event Calendar 2.0//EN
METHOD:PUBLISH
X-PUBLISHED-TTL:P3D
REFRESH-INTERVAL:P3D
CALSCALE:GREGORIAN
BEGIN:VEVENT
DTSTART:20040312T130000Z
DTEND:20040312T143000Z
X-MICROSOFT-CDO-ALLDAYEVENT:FALSE
SUMMARY:2004 1st Quarterly Chamber Membership Meeting
DESCRIPTION:
X-ALT-DESC;FMTTYPE=text/html:
LOCATION:Union University- Coburn Dining Hall 1050 Union University Drive Jackson\, TN 38305
UID:e.2827.1541
SEQUENCE:3
DTSTAMP:20260423T024540Z
URL:https://member.jacksontn.com/events/details/2004-1st-quarterly-chamber-membership-meeting-03-12-2004-1541
END:VEVENT

END:VCALENDAR
