BEGIN:VCALENDAR
VERSION:2.0
PRODID:-//ChamberMaster//Event Calendar 2.0//EN
METHOD:PUBLISH
X-PUBLISHED-TTL:P3D
REFRESH-INTERVAL:P3D
CALSCALE:GREGORIAN
BEGIN:VEVENT
DTSTART;VALUE=DATE:20011118
DTEND;VALUE=DATE:20011119
TRANSP:TRANSPARENT
X-MICROSOFT-CDO-ALLDAYEVENT:TRUE
SUMMARY:2003 Marketplace Expo
DESCRIPTION:
X-ALT-DESC;FMTTYPE=text/html:
LOCATION:Jackson Fairgrounds 800 South Highland Jackson\, TN 38301
UID:e.2827.1539
SEQUENCE:3
DTSTAMP:20260424T140125Z
URL:https://member.jacksontn.com/events/details/2003-marketplace-expo-11-18-2001-1539
END:VEVENT

END:VCALENDAR
