BEGIN:VCALENDAR
VERSION:2.0
PRODID:-//ChamberMaster//Event Calendar 2.0//EN
METHOD:PUBLISH
X-PUBLISHED-TTL:P3D
REFRESH-INTERVAL:P3D
CALSCALE:GREGORIAN
BEGIN:VEVENT
DTSTART;VALUE=DATE:20031205
DTEND;VALUE=DATE:20031206
TRANSP:TRANSPARENT
X-MICROSOFT-CDO-ALLDAYEVENT:TRUE
SUMMARY:2003 4th Quarterly Chamber Membership Meeting
DESCRIPTION:
X-ALT-DESC;FMTTYPE=text/html:
LOCATION:Clarion/Old English Inn Jackson 2267 North Highland Ave. Jackson\, TN 38305
UID:e.2827.1537
SEQUENCE:3
DTSTAMP:20260423T063350Z
URL:https://member.jacksontn.com/events/details/2003-4th-quarterly-chamber-membership-meeting-12-05-2003-1537
END:VEVENT

END:VCALENDAR
