BEGIN:VCALENDAR
VERSION:2.0
PRODID:-//ChamberMaster//Event Calendar 2.0//EN
METHOD:PUBLISH
X-PUBLISHED-TTL:P3D
REFRESH-INTERVAL:P3D
CALSCALE:GREGORIAN
BEGIN:VEVENT
DTSTART;VALUE=DATE:20030905
DTEND;VALUE=DATE:20030906
TRANSP:TRANSPARENT
X-MICROSOFT-CDO-ALLDAYEVENT:TRUE
SUMMARY:2003 3rd Quarterly Chamber Membership Meeting
DESCRIPTION:
X-ALT-DESC;FMTTYPE=text/html:
LOCATION:DoubleTree Hotel Jackson 1770 Hwy 45 Bypass Jackson\, TN 38305
UID:e.2827.1536
SEQUENCE:3
DTSTAMP:20260423T113528Z
URL:https://member.jacksontn.com/events/details/2003-3rd-quarterly-chamber-membership-meeting-09-05-2003-1536
END:VEVENT

END:VCALENDAR
