BEGIN:VCALENDAR
VERSION:2.0
PRODID:-//ChamberMaster//Event Calendar 2.0//EN
METHOD:PUBLISH
X-PUBLISHED-TTL:P3D
REFRESH-INTERVAL:P3D
CALSCALE:GREGORIAN
BEGIN:VEVENT
DTSTART;VALUE=DATE:20021217
DTEND;VALUE=DATE:20021218
TRANSP:TRANSPARENT
X-MICROSOFT-CDO-ALLDAYEVENT:TRUE
SUMMARY:2002 Leadership Jackson Graduation
DESCRIPTION:
X-ALT-DESC;FMTTYPE=text/html:
LOCATION:Carl Perkins Civic Center
UID:e.2827.1531
SEQUENCE:3
DTSTAMP:20260423T214220Z
URL:https://member.jacksontn.com/events/details/2002-leadership-jackson-graduation-12-17-2002-1531
END:VEVENT

END:VCALENDAR
