BEGIN:VCALENDAR
VERSION:2.0
PRODID:-//ChamberMaster//Event Calendar 2.0//EN
METHOD:PUBLISH
X-PUBLISHED-TTL:P3D
REFRESH-INTERVAL:P3D
CALSCALE:GREGORIAN
BEGIN:VEVENT
DTSTART;VALUE=DATE:20021206
DTEND;VALUE=DATE:20021207
TRANSP:TRANSPARENT
X-MICROSOFT-CDO-ALLDAYEVENT:TRUE
SUMMARY:2002 Fourth Quarterly Chamber Membership Meeting
DESCRIPTION:
X-ALT-DESC;FMTTYPE=text/html:
LOCATION:UT Ag Center Airways Blvd. Jackson\, TN 38301
UID:e.2827.1529
SEQUENCE:3
DTSTAMP:20260423T203306Z
URL:https://member.jacksontn.com/events/details/2002-fourth-quarterly-chamber-membership-meeting-12-06-2002-1529
END:VEVENT

END:VCALENDAR
