BEGIN:VCALENDAR
VERSION:2.0
PRODID:-//ChamberMaster//Event Calendar 2.0//EN
METHOD:PUBLISH
X-PUBLISHED-TTL:P3D
REFRESH-INTERVAL:P3D
CALSCALE:GREGORIAN
BEGIN:VEVENT
DTSTART;VALUE=DATE:20020207
DTEND;VALUE=DATE:20020208
TRANSP:TRANSPARENT
X-MICROSOFT-CDO-ALLDAYEVENT:TRUE
SUMMARY:2002 First Quarterly Chamber Membership Meeting
DESCRIPTION:
X-ALT-DESC;FMTTYPE=text/html:
LOCATION:UT Ag Center Airways Blvd. Jackson\, TN 38301
UID:e.2827.1528
SEQUENCE:3
DTSTAMP:20260424T084113Z
URL:https://member.jacksontn.com/events/details/2002-first-quarterly-chamber-membership-meeting-02-07-2002-1528
END:VEVENT

END:VCALENDAR
