BEGIN:VCALENDAR
VERSION:2.0
PRODID:-//ChamberMaster//Event Calendar 2.0//EN
METHOD:PUBLISH
X-PUBLISHED-TTL:P3D
REFRESH-INTERVAL:P3D
CALSCALE:GREGORIAN
BEGIN:VEVENT
DTSTART:20020122T143000Z
DTEND:20020123T213000Z
X-MICROSOFT-CDO-ALLDAYEVENT:FALSE
SUMMARY:2002 Facilitation Workshop
DESCRIPTION:
X-ALT-DESC;FMTTYPE=text/html:
LOCATION:Union University (Jennings Hall)
UID:e.2827.1530
SEQUENCE:3
DTSTAMP:20260424T095246Z
URL:https://member.jacksontn.com/events/details/2002-facilitation-workshop-01-22-2002-1530
END:VEVENT

END:VCALENDAR
