BEGIN:VCALENDAR
VERSION:2.0
PRODID:-//ChamberMaster//Event Calendar 2.0//EN
METHOD:PUBLISH
X-PUBLISHED-TTL:P3D
REFRESH-INTERVAL:P3D
CALSCALE:GREGORIAN
BEGIN:VEVENT
DTSTART:20011101T143000Z
DTEND:20011101T180000Z
X-MICROSOFT-CDO-ALLDAYEVENT:FALSE
SUMMARY:2001 Wage and Hour Regulations Seminar
DESCRIPTION:
X-ALT-DESC;FMTTYPE=text/html:
LOCATION:Harvey Hall\, Union University Student Union Building Jackson\, TN 38305
UID:e.2827.1527
SEQUENCE:3
DTSTAMP:20260424T140141Z
URL:https://member.jacksontn.com/events/details/2001-wage-and-hour-regulations-seminar-11-01-2001-1527
END:VEVENT

END:VCALENDAR
