BEGIN:VCALENDAR
VERSION:2.0
PRODID:-//ChamberMaster//Event Calendar 2.0//EN
METHOD:PUBLISH
X-PUBLISHED-TTL:P3D
REFRESH-INTERVAL:P3D
CALSCALE:GREGORIAN
BEGIN:VEVENT
DTSTART;VALUE=DATE:20011211
DTEND;VALUE=DATE:20011212
TRANSP:TRANSPARENT
X-MICROSOFT-CDO-ALLDAYEVENT:TRUE
SUMMARY:2001 Leadership Jackson Graduation
DESCRIPTION:
X-ALT-DESC;FMTTYPE=text/html:
LOCATION:Carl Perkins Civic
UID:e.2827.1525
SEQUENCE:3
DTSTAMP:20260424T135559Z
URL:https://member.jacksontn.com/events/details/2001-leadership-jackson-graduation-12-11-2001-1525
END:VEVENT

END:VCALENDAR
